Package: casper Version: 2.43.1 Command: /home/biocbuild/bbs-3.22-bioc/R/bin/R CMD INSTALL casper StartedAt: 2025-10-27 15:43:17 -0400 (Mon, 27 Oct 2025) EndedAt: 2025-10-27 15:44:23 -0400 (Mon, 27 Oct 2025) EllapsedTime: 65.5 seconds RetCode: 0 Status: OK