Package: canceR Version: 1.44.0 Command: rm -rf canceR.buildbin-libdir && mkdir canceR.buildbin-libdir && /Users/biocbuild/BBS/utils/build-universal.sh canceR_1.44.0.tar.gz /Library/Frameworks/R.framework/Resources/bin/R canceR.buildbin-libdir StartedAt: 2025-11-10 23:13:37 -0500 (Mon, 10 Nov 2025) EndedAt: 2025-11-10 23:14:42 -0500 (Mon, 10 Nov 2025) EllapsedTime: 65.2 seconds RetCode: 0 Status: OK PackageFile: canceR_1.44.0.tgz PackageFileSize: 14.92 MiB