Package: calm Version: 1.24.0 Command: /Library/Frameworks/R.framework/Resources/bin/R CMD INSTALL calm StartedAt: 2025-11-10 15:05:59 -0500 (Mon, 10 Nov 2025) EndedAt: 2025-11-10 15:06:05 -0500 (Mon, 10 Nov 2025) EllapsedTime: 5.9 seconds RetCode: 0 Status: OK