Package: calm Version: 1.24.0 Command: /Library/Frameworks/R.framework/Resources/bin/R CMD build --keep-empty-dirs --no-resave-data calm StartedAt: 2025-11-10 15:49:58 -0500 (Mon, 10 Nov 2025) EndedAt: 2025-11-10 15:51:00 -0500 (Mon, 10 Nov 2025) EllapsedTime: 61.7 seconds RetCode: 0 Status: OK PackageFile: calm_1.24.0.tar.gz PackageFileSize: 397.5 KiB