Package: calm Version: 1.24.0 Command: rm -rf calm.buildbin-libdir && mkdir calm.buildbin-libdir && /Users/biocbuild/BBS/utils/build-universal.sh calm_1.24.0.tar.gz /Library/Frameworks/R.framework/Resources/bin/R calm.buildbin-libdir StartedAt: 2025-11-10 23:13:35 -0500 (Mon, 10 Nov 2025) EndedAt: 2025-11-10 23:13:38 -0500 (Mon, 10 Nov 2025) EllapsedTime: 3.1 seconds RetCode: 0 Status: OK PackageFile: calm_1.24.0.tgz PackageFileSize: 428.7 KiB