Package: cageminer Version: 1.15.2 Command: /home/biocbuild/bbs-3.22-bioc/R/bin/R CMD INSTALL cageminer StartedAt: 2025-10-24 15:57:39 -0400 (Fri, 24 Oct 2025) EndedAt: 2025-10-24 15:58:34 -0400 (Fri, 24 Oct 2025) EllapsedTime: 54.9 seconds RetCode: 0 Status: OK