Package: cTRAP Version: 1.27.0 Command: /home/biocbuild/bbs-3.22-bioc/R/bin/R CMD build --keep-empty-dirs --no-resave-data --md5 cTRAP StartedAt: 2025-10-27 17:07:29 -0400 (Mon, 27 Oct 2025) EndedAt: 2025-10-27 17:10:26 -0400 (Mon, 27 Oct 2025) EllapsedTime: 176.1 seconds RetCode: 0 Status: OK PackageFile: cTRAP_1.27.0.tar.gz PackageFileSize: 5.152 MiB