Package: cTRAP Version: 1.27.0 Command: /Library/Frameworks/R.framework/Resources/bin/R CMD build --keep-empty-dirs --no-resave-data cTRAP StartedAt: 2025-10-24 16:07:39 -0400 (Fri, 24 Oct 2025) EndedAt: 2025-10-24 16:09:31 -0400 (Fri, 24 Oct 2025) EllapsedTime: 112.2 seconds RetCode: 0 Status: OK PackageFile: cTRAP_1.27.0.tar.gz PackageFileSize: 5.306 MiB