Package: cTRAP Version: 1.27.0 Command: rm -rf cTRAP.buildbin-libdir && mkdir cTRAP.buildbin-libdir && /Users/biocbuild/BBS/utils/build-universal.sh cTRAP_1.27.0.tar.gz /Library/Frameworks/R.framework/Resources/bin/R cTRAP.buildbin-libdir StartedAt: 2025-10-24 22:59:36 -0400 (Fri, 24 Oct 2025) EndedAt: 2025-10-24 22:59:50 -0400 (Fri, 24 Oct 2025) EllapsedTime: 13.3 seconds RetCode: 0 Status: OK PackageFile: cTRAP_1.27.0.tgz PackageFileSize: 6.404 MiB