Package: cBioPortalData Version: 2.21.5 Command: /home/biocbuild/bbs-3.22-bioc/R/bin/R CMD INSTALL cBioPortalData StartedAt: 2025-10-24 15:55:05 -0400 (Fri, 24 Oct 2025) EndedAt: 2025-10-24 15:55:48 -0400 (Fri, 24 Oct 2025) EllapsedTime: 43.1 seconds RetCode: 0 Status: OK