Package: cBioPortalData Version: 2.21.5 Command: /Library/Frameworks/R.framework/Resources/bin/R CMD build --keep-empty-dirs --no-resave-data cBioPortalData StartedAt: 2025-10-24 15:53:48 -0400 (Fri, 24 Oct 2025) EndedAt: 2025-10-24 15:54:20 -0400 (Fri, 24 Oct 2025) EllapsedTime: 31.4 seconds RetCode: 1 Status: ERROR PackageFile: None PackageFileSize: NA