Package: bumphunter Version: 1.52.0 Command: /home/biocbuild/bbs-3.22-bioc/R/bin/R CMD INSTALL bumphunter StartedAt: 2025-11-06 15:40:54 -0500 (Thu, 06 Nov 2025) EndedAt: 2025-11-06 15:41:29 -0500 (Thu, 06 Nov 2025) EllapsedTime: 34.9 seconds RetCode: 0 Status: OK