Package: bumphunter Version: 1.52.0 Command: /home/biocbuild/bbs-3.22-bioc/R/bin/R CMD build --keep-empty-dirs --no-resave-data --md5 bumphunter StartedAt: 2025-11-06 16:36:53 -0500 (Thu, 06 Nov 2025) EndedAt: 2025-11-06 16:37:42 -0500 (Thu, 06 Nov 2025) EllapsedTime: 49.0 seconds RetCode: 0 Status: OK PackageFile: bumphunter_1.52.0.tar.gz PackageFileSize: 2.368 MiB