Package: bugsigdbr Version: 1.15.3 Command: /home/biocbuild/bbs-3.22-bioc/R/bin/R CMD build --keep-empty-dirs --no-resave-data --md5 bugsigdbr StartedAt: 2025-10-27 16:36:40 -0400 (Mon, 27 Oct 2025) EndedAt: 2025-10-27 16:37:22 -0400 (Mon, 27 Oct 2025) EllapsedTime: 42.0 seconds RetCode: 0 Status: OK PackageFile: bugsigdbr_1.15.3.tar.gz PackageFileSize: 329.8 KiB