Package: bsseq Version: 1.45.4 Command: /home/biocbuild/bbs-3.22-bioc/R/bin/R CMD INSTALL bsseq StartedAt: 2025-10-27 15:30:25 -0400 (Mon, 27 Oct 2025) EndedAt: 2025-10-27 15:31:29 -0400 (Mon, 27 Oct 2025) EllapsedTime: 64.3 seconds RetCode: 0 Status: OK