Package: bsseq Version: 1.45.4 Command: /home/biocbuild/bbs-3.22-bioc/R/bin/R CMD build --keep-empty-dirs --no-resave-data --md5 bsseq StartedAt: 2025-10-27 16:36:23 -0400 (Mon, 27 Oct 2025) EndedAt: 2025-10-27 16:38:58 -0400 (Mon, 27 Oct 2025) EllapsedTime: 155.1 seconds RetCode: 0 Status: OK PackageFile: bsseq_1.45.4.tar.gz PackageFileSize: 2.941 MiB