Package: bsseq Version: 1.46.0 Command: /Library/Frameworks/R.framework/Resources/bin/R CMD build --keep-empty-dirs --no-resave-data bsseq StartedAt: 2025-11-10 15:48:53 -0500 (Mon, 10 Nov 2025) EndedAt: 2025-11-10 15:49:58 -0500 (Mon, 10 Nov 2025) EllapsedTime: 65.8 seconds RetCode: 0 Status: OK PackageFile: bsseq_1.46.0.tar.gz PackageFileSize: 2.951 MiB