Package: bsseq Version: 1.46.0 Command: rm -rf bsseq.buildbin-libdir && mkdir bsseq.buildbin-libdir && /Users/biocbuild/BBS/utils/build-universal.sh bsseq_1.46.0.tar.gz /Library/Frameworks/R.framework/Resources/bin/R bsseq.buildbin-libdir StartedAt: 2025-11-10 23:13:20 -0500 (Mon, 10 Nov 2025) EndedAt: 2025-11-10 23:13:42 -0500 (Mon, 10 Nov 2025) EllapsedTime: 22.4 seconds RetCode: 0 Status: OK PackageFile: bsseq_1.46.0.tgz PackageFileSize: 3.79 MiB