Package: broadSeq Version: 1.3.3 Command: /home/biocbuild/bbs-3.22-bioc/R/bin/R CMD build --keep-empty-dirs --no-resave-data --md5 broadSeq StartedAt: 2025-10-24 16:44:33 -0400 (Fri, 24 Oct 2025) EndedAt: 2025-10-24 16:46:55 -0400 (Fri, 24 Oct 2025) EllapsedTime: 142.1 seconds RetCode: 0 Status: OK PackageFile: broadSeq_1.3.3.tar.gz PackageFileSize: 4.224 MiB