Package: broadSeq Version: 1.4.0 Command: /Library/Frameworks/R.framework/Resources/bin/R CMD INSTALL broadSeq StartedAt: 2025-10-31 15:29:04 -0400 (Fri, 31 Oct 2025) EndedAt: 2025-10-31 15:29:19 -0400 (Fri, 31 Oct 2025) EllapsedTime: 15.8 seconds RetCode: 0 Status: OK