Package: broadSeq Version: 1.4.0 Command: /Library/Frameworks/R.framework/Resources/bin/R CMD build --keep-empty-dirs --no-resave-data broadSeq StartedAt: 2025-11-02 15:48:51 -0500 (Sun, 02 Nov 2025) EndedAt: 2025-11-02 15:49:47 -0500 (Sun, 02 Nov 2025) EllapsedTime: 56.7 seconds RetCode: 0 Status: OK PackageFile: broadSeq_1.4.0.tar.gz PackageFileSize: 4.181 MiB