Package: breakpointR Version: 1.27.0 Command: /Library/Frameworks/R.framework/Resources/bin/R CMD INSTALL breakpointR StartedAt: 2025-10-24 15:18:24 -0400 (Fri, 24 Oct 2025) EndedAt: 2025-10-24 15:18:36 -0400 (Fri, 24 Oct 2025) EllapsedTime: 12.2 seconds RetCode: 0 Status: OK