Package: breakpointR Version: 1.27.0 Command: /Library/Frameworks/R.framework/Resources/bin/R CMD build --keep-empty-dirs --no-resave-data breakpointR StartedAt: 2025-10-24 15:51:14 -0400 (Fri, 24 Oct 2025) EndedAt: 2025-10-24 15:51:45 -0400 (Fri, 24 Oct 2025) EllapsedTime: 30.4 seconds RetCode: 0 Status: OK PackageFile: breakpointR_1.27.0.tar.gz PackageFileSize: 819.5 KiB