Package: breakpointR Version: 1.27.0 Command: rm -rf breakpointR.buildbin-libdir && mkdir breakpointR.buildbin-libdir && /Users/biocbuild/BBS/utils/build-universal.sh breakpointR_1.27.0.tar.gz /Library/Frameworks/R.framework/Resources/bin/R breakpointR.buildbin-libdir StartedAt: 2025-10-24 22:56:04 -0400 (Fri, 24 Oct 2025) EndedAt: 2025-10-24 22:56:17 -0400 (Fri, 24 Oct 2025) EllapsedTime: 13.3 seconds RetCode: 0 Status: OK PackageFile: breakpointR_1.27.0.tgz PackageFileSize: 555.5 KiB