Package: branchpointer Version: 1.35.1 Command: /home/biocbuild/R/R/bin/R CMD INSTALL branchpointer StartedAt: 2025-10-23 20:59:22 -0000 (Thu, 23 Oct 2025) EndedAt: 2025-10-23 21:00:29 -0000 (Thu, 23 Oct 2025) EllapsedTime: 67.2 seconds RetCode: 0 Status: OK