Package: branchpointer Version: 1.35.1 Command: /home/biocbuild/R/R/bin/R CMD build --keep-empty-dirs --no-resave-data branchpointer StartedAt: 2025-10-20 22:22:49 -0000 (Mon, 20 Oct 2025) EndedAt: 2025-10-20 22:24:22 -0000 (Mon, 20 Oct 2025) EllapsedTime: 93.0 seconds RetCode: 1 Status: ERROR PackageFile: None PackageFileSize: NA