Package: branchpointer Version: 1.35.1 Command: /home/biocbuild/bbs-3.22-bioc/R/bin/R CMD build --keep-empty-dirs --no-resave-data --md5 branchpointer StartedAt: 2025-10-27 16:35:25 -0400 (Mon, 27 Oct 2025) EndedAt: 2025-10-27 16:36:36 -0400 (Mon, 27 Oct 2025) EllapsedTime: 71.1 seconds RetCode: 1 Status: ERROR PackageFile: None PackageFileSize: NA