Package: borealis Version: 1.13.0 Command: /home/biocbuild/bbs-3.22-bioc/R/bin/R CMD INSTALL borealis StartedAt: 2025-10-27 15:32:13 -0400 (Mon, 27 Oct 2025) EndedAt: 2025-10-27 15:32:52 -0400 (Mon, 27 Oct 2025) EllapsedTime: 39.2 seconds RetCode: 0 Status: OK