Package: bnem Version: 1.18.0 Command: /home/biocbuild/bbs-3.22-bioc/R/bin/R CMD INSTALL bnem StartedAt: 2025-11-03 15:32:02 -0500 (Mon, 03 Nov 2025) EndedAt: 2025-11-03 15:32:37 -0500 (Mon, 03 Nov 2025) EllapsedTime: 35.5 seconds RetCode: 0 Status: OK