Package: bnbc Version: 1.31.1 Command: /home/biocbuild/bbs-3.22-bioc/R/bin/R CMD INSTALL bnbc StartedAt: 2025-10-24 15:41:28 -0400 (Fri, 24 Oct 2025) EndedAt: 2025-10-24 15:42:11 -0400 (Fri, 24 Oct 2025) EllapsedTime: 42.1 seconds RetCode: 0 Status: OK