Package: bluster Version: 1.19.1 Command: /home/biocbuild/bbs-3.22-bioc/R/bin/R CMD INSTALL bluster StartedAt: 2025-10-27 15:16:43 -0400 (Mon, 27 Oct 2025) EndedAt: 2025-10-27 15:17:04 -0400 (Mon, 27 Oct 2025) EllapsedTime: 20.8 seconds RetCode: 0 Status: OK