Package: bluster Version: 1.19.1 Command: /home/biocbuild/bbs-3.22-bioc/R/bin/R CMD build --keep-empty-dirs --no-resave-data --md5 bluster StartedAt: 2025-10-27 16:34:15 -0400 (Mon, 27 Oct 2025) EndedAt: 2025-10-27 16:36:01 -0400 (Mon, 27 Oct 2025) EllapsedTime: 106.1 seconds RetCode: 0 Status: OK PackageFile: bluster_1.19.1.tar.gz PackageFileSize: 3.102 MiB