Package: blima Version: 1.43.0 Command: /home/biocbuild/bbs-3.22-bioc/R/bin/R CMD build --keep-empty-dirs --no-resave-data --md5 blima StartedAt: 2025-10-24 16:42:10 -0400 (Fri, 24 Oct 2025) EndedAt: 2025-10-24 16:46:56 -0400 (Fri, 24 Oct 2025) EllapsedTime: 285.2 seconds RetCode: 0 Status: OK PackageFile: blima_1.43.0.tar.gz PackageFileSize: 267.4 KiB