Package: blima Version: 1.44.0 Command: /Library/Frameworks/R.framework/Resources/bin/R CMD build --keep-empty-dirs --no-resave-data blima StartedAt: 2025-11-10 15:47:31 -0500 (Mon, 10 Nov 2025) EndedAt: 2025-11-10 15:49:23 -0500 (Mon, 10 Nov 2025) EllapsedTime: 112.3 seconds RetCode: 0 Status: OK PackageFile: blima_1.44.0.tar.gz PackageFileSize: 264.5 KiB