Package: blima Version: 1.44.0 Command: rm -rf blima.buildbin-libdir && mkdir blima.buildbin-libdir && /Users/biocbuild/BBS/utils/build-universal.sh blima_1.44.0.tar.gz /Library/Frameworks/R.framework/Resources/bin/R blima.buildbin-libdir StartedAt: 2025-11-10 23:13:01 -0500 (Mon, 10 Nov 2025) EndedAt: 2025-11-10 23:13:12 -0500 (Mon, 10 Nov 2025) EllapsedTime: 10.2 seconds RetCode: 0 Status: OK PackageFile: blima_1.44.0.tgz PackageFileSize: 424.7 KiB