Package: blase Version: 1.0.0 Command: /Library/Frameworks/R.framework/Resources/bin/R CMD INSTALL blase StartedAt: 2025-10-31 15:33:22 -0400 (Fri, 31 Oct 2025) EndedAt: 2025-10-31 15:33:41 -0400 (Fri, 31 Oct 2025) EllapsedTime: 18.6 seconds RetCode: 0 Status: OK