Package: blase Version: 1.0.0 Command: /Library/Frameworks/R.framework/Resources/bin/R CMD build --keep-empty-dirs --no-resave-data blase StartedAt: 2025-10-31 15:51:36 -0400 (Fri, 31 Oct 2025) EndedAt: 2025-10-31 15:59:14 -0400 (Fri, 31 Oct 2025) EllapsedTime: 458.2 seconds RetCode: 0 Status: OK PackageFile: blase_1.0.0.tar.gz PackageFileSize: 8.627 MiB