Package: blacksheepr Version: 1.23.0 Command: /home/biocbuild/R/R/bin/R CMD INSTALL blacksheepr StartedAt: 2025-10-23 20:54:38 -0000 (Thu, 23 Oct 2025) EndedAt: 2025-10-23 20:55:11 -0000 (Thu, 23 Oct 2025) EllapsedTime: 32.4 seconds RetCode: 0 Status: OK