Package: blacksheepr Version: 1.23.0 Command: /home/biocbuild/R/R/bin/R CMD build --keep-empty-dirs --no-resave-data blacksheepr StartedAt: 2025-10-20 22:19:24 -0000 (Mon, 20 Oct 2025) EndedAt: 2025-10-20 22:22:49 -0000 (Mon, 20 Oct 2025) EllapsedTime: 205.1 seconds RetCode: 0 Status: OK PackageFile: blacksheepr_1.23.0.tar.gz PackageFileSize: 4.032 MiB