Package: blacksheepr Version: 1.23.0 Command: /Library/Frameworks/R.framework/Resources/bin/R CMD INSTALL blacksheepr StartedAt: 2025-10-24 15:38:28 -0400 (Fri, 24 Oct 2025) EndedAt: 2025-10-24 15:39:05 -0400 (Fri, 24 Oct 2025) EllapsedTime: 37.0 seconds RetCode: 0 Status: OK