Package: blacksheepr Version: 1.23.0 Command: /Library/Frameworks/R.framework/Resources/bin/R CMD build --keep-empty-dirs --no-resave-data blacksheepr StartedAt: 2025-10-24 15:50:08 -0400 (Fri, 24 Oct 2025) EndedAt: 2025-10-24 15:50:58 -0400 (Fri, 24 Oct 2025) EllapsedTime: 50.6 seconds RetCode: 0 Status: OK PackageFile: blacksheepr_1.23.0.tar.gz PackageFileSize: 4.227 MiB