Package: blacksheepr Version: 1.23.0 Command: rm -rf blacksheepr.buildbin-libdir && mkdir blacksheepr.buildbin-libdir && /Users/biocbuild/BBS/utils/build-universal.sh blacksheepr_1.23.0.tar.gz /Library/Frameworks/R.framework/Resources/bin/R blacksheepr.buildbin-libdir StartedAt: 2025-10-24 22:55:53 -0400 (Fri, 24 Oct 2025) EndedAt: 2025-10-24 22:56:04 -0400 (Fri, 24 Oct 2025) EllapsedTime: 11.2 seconds RetCode: 0 Status: OK PackageFile: blacksheepr_1.23.0.tgz PackageFileSize: 4.286 MiB