Package: biscuiteer Version: 1.23.0 Command: /home/biocbuild/bbs-3.22-bioc/R/bin/R CMD build --keep-empty-dirs --no-resave-data --md5 biscuiteer StartedAt: 2025-10-27 16:33:17 -0400 (Mon, 27 Oct 2025) EndedAt: 2025-10-27 16:35:06 -0400 (Mon, 27 Oct 2025) EllapsedTime: 109.1 seconds RetCode: 0 Status: OK PackageFile: biscuiteer_1.23.0.tar.gz PackageFileSize: 4.766 MiB