Package: biscuiteer Version: 1.24.0 Command: /Library/Frameworks/R.framework/Resources/bin/R CMD INSTALL biscuiteer StartedAt: 2025-10-31 15:35:38 -0400 (Fri, 31 Oct 2025) EndedAt: 2025-10-31 15:36:05 -0400 (Fri, 31 Oct 2025) EllapsedTime: 27.6 seconds RetCode: 0 Status: OK