Package: biovizBase Version: 1.57.1 Command: /home/biocbuild/bbs-3.22-bioc/R/bin/R CMD INSTALL biovizBase StartedAt: 2025-10-24 15:53:18 -0400 (Fri, 24 Oct 2025) EndedAt: 2025-10-24 15:54:04 -0400 (Fri, 24 Oct 2025) EllapsedTime: 46.2 seconds RetCode: 0 Status: OK