Package: biotmle Version: 1.33.0 Command: /home/biocbuild/bbs-3.22-bioc/R/bin/R CMD INSTALL biotmle StartedAt: 2025-10-27 15:39:47 -0400 (Mon, 27 Oct 2025) EndedAt: 2025-10-27 15:40:13 -0400 (Mon, 27 Oct 2025) EllapsedTime: 25.9 seconds RetCode: 0 Status: OK