Package: biosigner Version: 1.37.4 Command: /home/biocbuild/bbs-3.22-bioc/R/bin/R CMD INSTALL biosigner StartedAt: 2025-10-24 15:49:07 -0400 (Fri, 24 Oct 2025) EndedAt: 2025-10-24 15:49:33 -0400 (Fri, 24 Oct 2025) EllapsedTime: 26.0 seconds RetCode: 0 Status: OK