Package: biosigner Version: 1.37.4 Command: /home/biocbuild/bbs-3.22-bioc/R/bin/R CMD build --keep-empty-dirs --no-resave-data --md5 biosigner StartedAt: 2025-10-24 16:40:52 -0400 (Fri, 24 Oct 2025) EndedAt: 2025-10-24 16:43:30 -0400 (Fri, 24 Oct 2025) EllapsedTime: 158.1 seconds RetCode: 0 Status: OK PackageFile: biosigner_1.37.4.tar.gz PackageFileSize: 5 MiB