Package: biomaRt Version: 2.65.16 Command: /home/biocbuild/bbs-3.22-bioc/R/bin/R CMD build --keep-empty-dirs --no-resave-data --md5 biomaRt StartedAt: 2025-10-24 16:40:29 -0400 (Fri, 24 Oct 2025) EndedAt: 2025-10-24 16:41:42 -0400 (Fri, 24 Oct 2025) EllapsedTime: 73.1 seconds RetCode: 0 Status: OK PackageFile: biomaRt_2.65.16.tar.gz PackageFileSize: 888.3 KiB