Package: biomaRt Version: 2.66.0 Command: /Library/Frameworks/R.framework/Resources/bin/R CMD INSTALL biomaRt StartedAt: 2025-10-31 15:12:46 -0400 (Fri, 31 Oct 2025) EndedAt: 2025-10-31 15:12:53 -0400 (Fri, 31 Oct 2025) EllapsedTime: 7.2 seconds RetCode: 0 Status: OK